BEGIN:VCALENDAR
VERSION:2.0
PRODID:-//Blue Wave Martial Arts &amp; Fitness - ECPv6.15.20//NONSGML v1.0//EN
CALSCALE:GREGORIAN
METHOD:PUBLISH
X-WR-CALNAME:Blue Wave Martial Arts &amp; Fitness
X-ORIGINAL-URL:https://bluewavestl.com
X-WR-CALDESC:Events for Blue Wave Martial Arts &amp; Fitness
REFRESH-INTERVAL;VALUE=DURATION:PT1H
X-Robots-Tag:noindex
X-PUBLISHED-TTL:PT1H
BEGIN:VTIMEZONE
TZID:America/Chicago
BEGIN:DAYLIGHT
TZOFFSETFROM:-0600
TZOFFSETTO:-0500
TZNAME:CDT
DTSTART:20240310T080000
END:DAYLIGHT
BEGIN:STANDARD
TZOFFSETFROM:-0500
TZOFFSETTO:-0600
TZNAME:CST
DTSTART:20241103T070000
END:STANDARD
BEGIN:DAYLIGHT
TZOFFSETFROM:-0600
TZOFFSETTO:-0500
TZNAME:CDT
DTSTART:20250309T080000
END:DAYLIGHT
BEGIN:STANDARD
TZOFFSETFROM:-0500
TZOFFSETTO:-0600
TZNAME:CST
DTSTART:20251102T070000
END:STANDARD
BEGIN:DAYLIGHT
TZOFFSETFROM:-0600
TZOFFSETTO:-0500
TZNAME:CDT
DTSTART:20260308T080000
END:DAYLIGHT
BEGIN:STANDARD
TZOFFSETFROM:-0500
TZOFFSETTO:-0600
TZNAME:CST
DTSTART:20261101T070000
END:STANDARD
END:VTIMEZONE
BEGIN:VEVENT
DTSTART;TZID=America/Chicago:20251107T060000
DTEND;TZID=America/Chicago:20251109T160000
DTSTAMP:20260424T132339
CREATED:20251107T060023Z
LAST-MODIFIED:20250722T171429Z
UID:795-1762495200-1762704000@bluewavestl.com
SUMMARY:2025 Fall Tournament
DESCRIPTION:St. Louis Gateway Championships\, November 7-9\, 2025
URL:https://bluewavestl.com/event/2025-fall-tournament/
LOCATION:Blue Wave Main School\, 100 Mall Parkway\, Wentzville\, MO\, 63385\, United States
END:VEVENT
BEGIN:VEVENT
DTSTART;VALUE=DATE:20250501
DTEND;VALUE=DATE:20250505
DTSTAMP:20260424T132339
CREATED:20250204T093739Z
LAST-MODIFIED:20250204T093739Z
UID:525-1746126000-1746385199@bluewavestl.com
SUMMARY:Spring Technical Tournament
DESCRIPTION:Blue Wave and the Chung Do Association Technical Tournament. May 2\,3\,4 in 2025.
URL:https://bluewavestl.com/event/spring-technical-tournament/
LOCATION:MO
END:VEVENT
END:VCALENDAR